BEGIN:VCALENDAR
VERSION:2.0
PRODID:-//BizPlus - ECPv4.6.2//NONSGML v1.0//EN
CALSCALE:GREGORIAN
METHOD:PUBLISH
X-WR-CALNAME:BizPlus
X-ORIGINAL-URL:https://bizplus.ie
X-WR-CALDESC:Events for BizPlus
BEGIN:VEVENT
DTSTART;TZID=Europe/Dublin:20160311T091500
DTEND;TZID=Europe/Dublin:20160311T161500
DTSTAMP:20171025T150427
CREATED:20160309T111611Z
LAST-MODIFIED:20160309T111611Z
UID:16183-1457687700-1457712900@bizplus.ie
SUMMARY:CPA Annual Conference
DESCRIPTION:The Certified Public Accountants conference this year will coincide with the 90th anniversary of CPA Ireland. Accordingly\, the theme of the conference is ’90 Years Accounting for Business’\, and the event will be chaired by broadcaster and journalist John Creedon. Speakers participating include Fayezul Choudhury\, CEO of the International Federation of Accountants\, and Michael Carey\, chairman of Bord Bia and co-founder of East Coast Bakehouse. Tickets cost €190 for CPA members and €240 for non-members. \n
URL:https://bizplus.ie/event/cpa-annual-conference/
LOCATION:Jones' Road\, \, Dublin 3
GEO:53.3625281;-6.2523783
X-APPLE-STRUCTURED-LOCATION;VALUE=URI;X-ADDRESS=Jones' Road  Dublin 3;X-APPLE-RADIUS=500;X-TITLE=Jones' Road\,:geo:-6.2523783,53.3625281
END:VEVENT
END:VCALENDAR