BEGIN:VCALENDAR
VERSION:2.0
PRODID:-//BizPlus - ECPv4.6.2//NONSGML v1.0//EN
CALSCALE:GREGORIAN
METHOD:PUBLISH
X-WR-CALNAME:BizPlus
X-ORIGINAL-URL:https://bizplus.ie
X-WR-CALDESC:Events for BizPlus
BEGIN:VEVENT
DTSTART;TZID=Europe/Dublin:20160420T080000
DTEND;TZID=Europe/Dublin:20160420T110000
DTSTAMP:20171025T151415
CREATED:20160315T113802Z
LAST-MODIFIED:20160315T113802Z
UID:16463-1461139200-1461150000@bizplus.ie
SUMMARY:Cork Business Breakfast: 'Winning in Business'
DESCRIPTION:This is Bord Gáis Energy’s first Cork business breakfast to organise\, and it will run under the theme of ‘Winning in Business’. A high-profile guest panel for the event will include Irish soccer legend Roy Keane\, former Ireland ladies rugby captain Fiona Coghlan\, and all-Ireland winning Cork hurler and current Clare selector\, Dónal Óg Cusack. The trio will share their advice and insights on how to attract\, develop and manage top talent. \nOther speakers taking part include motivational expert Enda McNulty and Bord Gáis Energy chief operating officer\, Dave Kirwan. Tickets cost €129 per person\, including breakfast and light refreshments. \n
URL:https://bizplus.ie/event/cork-business-breakfast-winning-in-business/
LOCATION:Lapp's Quay\, \, Cork
GEO:51.8983104;-8.4653205
X-APPLE-STRUCTURED-LOCATION;VALUE=URI;X-ADDRESS=Lapp's Quay  Cork;X-APPLE-RADIUS=500;X-TITLE=Lapp's Quay\,:geo:-8.4653205,51.8983104
END:VEVENT
END:VCALENDAR