BEGIN:VCALENDAR
VERSION:2.0
PRODID:-//BizPlus - ECPv4.6.2//NONSGML v1.0//EN
CALSCALE:GREGORIAN
METHOD:PUBLISH
X-WR-CALNAME:BizPlus
X-ORIGINAL-URL:https://bizplus.ie
X-WR-CALDESC:Events for BizPlus
BEGIN:VEVENT
DTSTART;TZID=Europe/Dublin:20160305T110000
DTEND;TZID=Europe/Dublin:20160306T173000
DTSTAMP:20171025T145919
CREATED:20160301T092121Z
LAST-MODIFIED:20160301T092121Z
UID:15702-1457175600-1457285400@bizplus.ie
SUMMARY:Cork 50 Plus Expo
DESCRIPTION:Organised by the publishers of Senior Times magazine\, this lifestyle event is designed to show people who have retired\, or are about to retire\, what’s out there for them in terms of taking up a new hobby or pastime while keeping themselves healthy and active. Over 80 exhibitors are expected to attend and attractions include free health screenings\, personal finance and gardening clinics. Tickets cost €5 but free entry is possible by visiting the Senior Times website. \n
URL:https://bizplus.ie/event/cork-50-plus-expo/
LOCATION:Angelsea Street\, \, Cork
GEO:51.8954076;-8.4653529
X-APPLE-STRUCTURED-LOCATION;VALUE=URI;X-ADDRESS=Angelsea Street  Cork;X-APPLE-RADIUS=500;X-TITLE=Angelsea Street\,:geo:-8.4653529,51.8954076
END:VEVENT
END:VCALENDAR