BEGIN:VCALENDAR
VERSION:2.0
PRODID:-//BizPlus - ECPv4.6.2//NONSGML v1.0//EN
CALSCALE:GREGORIAN
METHOD:PUBLISH
X-WR-CALNAME:BizPlus
X-ORIGINAL-URL:https://bizplus.ie
X-WR-CALDESC:Events for BizPlus
BEGIN:VEVENT
DTSTART;TZID=Europe/Dublin:20160223T090000
DTEND;TZID=Europe/Dublin:20160223T190000
DTSTAMP:20171025T145242
CREATED:20160120T113556Z
LAST-MODIFIED:20160120T113556Z
UID:13593-1456218000-1456254000@bizplus.ie
SUMMARY:Completely Retail Marketplace Ireland
DESCRIPTION:The sustained recovery in Ireland’s retail economy has attracted this\, one of the UK’s largest retail property exhibitions\, to Dublin for the second year running. Over 600 representatives from the leading Irish and UK retail firms to attend\, among them Eason\, Insomnia\, H&M and Omniplex Cinemas\, to discuss opportunities in Ireland’s retail property market. Agents\, landlords and agents acting on behalf of occupiers can expect to pay €595 plus VAT each to attend. The first three delegates from any occupier can attend free. \n
URL:https://bizplus.ie/event/completely-retail-marketplace-ireland/
LOCATION:Dame Street\, \, Dublin 2
GEO:53.344183;-6.2648142
X-APPLE-STRUCTURED-LOCATION;VALUE=URI;X-ADDRESS=Dame Street  Dublin 2;X-APPLE-RADIUS=500;X-TITLE=Dame Street\,:geo:-6.2648142,53.344183
END:VEVENT
END:VCALENDAR