BEGIN:VCALENDAR
VERSION:2.0
PRODID:-//BizPlus - ECPv4.6.2//NONSGML v1.0//EN
CALSCALE:GREGORIAN
METHOD:PUBLISH
X-WR-CALNAME:BizPlus
X-ORIGINAL-URL:https://bizplus.ie
X-WR-CALDESC:Events for BizPlus
BEGIN:VEVENT
DTSTART;TZID=Europe/Dublin:20171103T120000
DTEND;TZID=Europe/Dublin:20171103T150000
DTSTAMP:20171105T151733
CREATED:20171009T083409Z
LAST-MODIFIED:20171018T072948Z
UID:42700-1509710400-1509721200@bizplus.ie
SUMMARY:Capital Limerick Lunch
DESCRIPTION:Capital Limerick is a Dublin-based voluntary organisation set up to promote the economic and sociocultural profile of Limerick\, and to create an influential and co-ordinated presence in Dublin to advocate for the Mid-West region. This is the second annual outing for its lunch; speakers this year will include former EU Parliament president Pat Cox and NewsWhip CEO Paul Quigley. Ticket €100. \n
URL:https://bizplus.ie/event/capital-limerick-lunch/
LOCATION:Ballsbridge\, \, Dublin 4
GEO:53.3332893;-6.2371981
X-APPLE-STRUCTURED-LOCATION;VALUE=URI;X-ADDRESS=Ballsbridge  Dublin 4;X-APPLE-RADIUS=500;X-TITLE=Ballsbridge\,:geo:-6.2371981,53.3332893
END:VEVENT
END:VCALENDAR