BEGIN:VCALENDAR
VERSION:2.0
PRODID:-//BizPlus - ECPv4.6.2//NONSGML v1.0//EN
CALSCALE:GREGORIAN
METHOD:PUBLISH
X-WR-CALNAME:BizPlus
X-ORIGINAL-URL:https://bizplus.ie
X-WR-CALDESC:Events for BizPlus
BEGIN:VEVENT
DTSTART;TZID=Europe/Dublin:20160310T083000
DTEND;TZID=Europe/Dublin:20160310T103000
DTSTAMP:20171025T150229
CREATED:20160229T092952Z
LAST-MODIFIED:20160229T092952Z
UID:15603-1457598600-1457605800@bizplus.ie
SUMMARY:Briefing: Planning\, Budgeting And Forecasting
DESCRIPTION:ProStrategy and IBM are organising this free event\, which will focusing on improving best practices in planning\, budgeting and forecasting to achieve business growth. \n
URL:https://bizplus.ie/event/briefing-planning-budgeting-and-forecasting/
LOCATION:Point Village\, \, Dublin 1
GEO:53.3484894;-6.2301646
X-APPLE-STRUCTURED-LOCATION;VALUE=URI;X-ADDRESS=Point Village  Dublin 1;X-APPLE-RADIUS=500;X-TITLE=Point Village\,:geo:-6.2301646,53.3484894
END:VEVENT
END:VCALENDAR