BEGIN:VCALENDAR
VERSION:2.0
PRODID:-//BizPlus - ECPv4.6.2//NONSGML v1.0//EN
CALSCALE:GREGORIAN
METHOD:PUBLISH
X-WR-CALNAME:BizPlus
X-ORIGINAL-URL:https://bizplus.ie
X-WR-CALDESC:Events for BizPlus
BEGIN:VEVENT
DTSTART;TZID=Europe/Dublin:20160421T083000
DTEND;TZID=Europe/Dublin:20160421T100000
DTSTAMP:20171025T151506
CREATED:20160413T142206Z
LAST-MODIFIED:20160414T154313Z
UID:17844-1461227400-1461232800@bizplus.ie
SUMMARY:Briefing: 'Game-Changing Analytics'
DESCRIPTION:ProStrategy is holding this free event\, which is centred on the game-changing era of analytics\, and how it can and should be utilised. The briefing will be hosted jointly by ProStrategy and IBM\, and will focus on the emerging technologies that enable companies to use their data in new ways\, and see the latest industry trends that support the critical link between data technology and analytics. Guest speakers at the event will include John Coleman\, MD of ProStrategy. \n
URL:https://bizplus.ie/event/briefing-game-changing-analytics/
END:VEVENT
END:VCALENDAR