BEGIN:VCALENDAR
VERSION:2.0
PRODID:-//BizPlus - ECPv4.6.2//NONSGML v1.0//EN
CALSCALE:GREGORIAN
METHOD:PUBLISH
X-WR-CALNAME:BizPlus
X-ORIGINAL-URL:https://bizplus.ie
X-WR-CALDESC:Events for BizPlus
BEGIN:VEVENT
DTSTART;TZID=Europe/Dublin:20160614T120000
DTEND;TZID=Europe/Dublin:20160614T150000
DTSTAMP:20171025T154151
CREATED:20160506T135452Z
LAST-MODIFIED:20160506T135452Z
UID:18927-1465905600-1465916400@bizplus.ie
SUMMARY:Best In Fresh Awards 2016
DESCRIPTION:The Checkout Best in Fresh Awards\, now in their tenth year\, reward and promote excellence in fresh food retailing in Ireland\, with retailers of all sizes and formats honored. The awards will also acknowledge fresh produce suppliers\, while a special ‘Industry Innovator’ award will reward an individual\, or team of individuals\, behind pioneering developments in the fresh food sector. Tickets cost €185 plus VAT. \n
URL:https://bizplus.ie/event/best-in-fresh-awards-2016/
LOCATION:St Stephen's Green\, \, Dublin 2
GEO:53.3398353;-6.2602941
X-APPLE-STRUCTURED-LOCATION;VALUE=URI;X-ADDRESS=St Stephen's Green  Dublin 2;X-APPLE-RADIUS=500;X-TITLE=St Stephen's Green\,:geo:-6.2602941,53.3398353
CATEGORIES:Food/Drink
END:VEVENT
END:VCALENDAR