BEGIN:VCALENDAR
VERSION:2.0
PRODID:-//BizPlus - ECPv4.6.2//NONSGML v1.0//EN
CALSCALE:GREGORIAN
METHOD:PUBLISH
X-WR-CALNAME:BizPlus
X-ORIGINAL-URL:https://bizplus.ie
X-WR-CALDESC:Events for BizPlus
BEGIN:VEVENT
DTSTART;TZID=Europe/Dublin:20160526T090000
DTEND;TZID=Europe/Dublin:20160526T130000
DTSTAMP:20171025T153514
CREATED:20160420T103512Z
LAST-MODIFIED:20160420T103654Z
UID:18184-1464253200-1464267600@bizplus.ie
SUMMARY:'Best In Fest' Fund Masterclass
DESCRIPTION:Bringing together thought leaders from the festival and events industry\, this inaugural masterclass will examine the many funding options available to festival organisers\, spanning both public and private funding. Among the speakers taking part are Avril Bannerton\, MD of Taste of Dublin and Helen Carroll from Business to Arts. Other speakers include Michael Johnson\, CEO of Microfinance Ireland. Early bird tickets cost €99. \n
URL:https://bizplus.ie/event/best-in-fest-fund-masterclass/
LOCATION:Point Village\, \, Dublin 1
GEO:53.3484894;-6.2301646
X-APPLE-STRUCTURED-LOCATION;VALUE=URI;X-ADDRESS=Point Village  Dublin 1;X-APPLE-RADIUS=500;X-TITLE=Point Village\,:geo:-6.2301646,53.3484894
END:VEVENT
END:VCALENDAR