BEGIN:VCALENDAR
VERSION:2.0
PRODID:-//BizPlus - ECPv4.6.2//NONSGML v1.0//EN
CALSCALE:GREGORIAN
METHOD:PUBLISH
X-WR-CALNAME:BizPlus
X-ORIGINAL-URL:https://bizplus.ie
X-WR-CALDESC:Events for BizPlus
BEGIN:VEVENT
DTSTART;TZID=Europe/Dublin:20160428T093000
DTEND;TZID=Europe/Dublin:20160428T160000
DTSTAMP:20171025T151852
CREATED:20160216T143236Z
LAST-MODIFIED:20160216T143236Z
UID:14754-1461835800-1461859200@bizplus.ie
SUMMARY:'ARVR Innovate' Conference
DESCRIPTION:Running this year under a new name\, the third annual Augmented & Virtual Reality Conference and Expo will showcase and debate the business case for the emerging technologies of augmented reality and virtual reality. Particular markets that will be considered include construction and property; engineering and industrial\, and retail and gaming. Early bird tickets (up to April 14) cost €235 plus VAT. Standard tickets thereafter will cost €250 plus VAT. \n
URL:https://bizplus.ie/event/arvr-innovate-conference/
LOCATION:Jones' Road\, \, Dublin 3
GEO:53.3625281;-6.2523783
X-APPLE-STRUCTURED-LOCATION;VALUE=URI;X-ADDRESS=Jones' Road  Dublin 3;X-APPLE-RADIUS=500;X-TITLE=Jones' Road\,:geo:-6.2523783,53.3625281
CATEGORIES:Technology
END:VEVENT
END:VCALENDAR