BEGIN:VCALENDAR
VERSION:2.0
PRODID:-//BizPlus - ECPv4.6.2//NONSGML v1.0//EN
CALSCALE:GREGORIAN
METHOD:PUBLISH
X-WR-CALNAME:BizPlus
X-ORIGINAL-URL:https://bizplus.ie
X-WR-CALDESC:Events for BizPlus
BEGIN:VEVENT
DTSTART;TZID=Europe/Dublin:20171103T120000
DTEND;TZID=Europe/Dublin:20171103T220000
DTSTAMP:20171105T151643
CREATED:20170906T092148Z
LAST-MODIFIED:20170906T092148Z
UID:41144-1509710400-1509746400@bizplus.ie
SUMMARY:Art Summit Ireland
DESCRIPTION:This conference is designed for those with an art background who are looking to understand the intricacies surrounding wealth  management issues\, as well as those with a financial background who wish to learn about investing in art through collection and wealth management strategies. \nKeynote speaker will be Sean Rainbird\, director of the National Gallery of Ireland. Tickets start at €373 for conference attendance only. \n
URL:https://bizplus.ie/event/art-summit-ireland/
LOCATION:Dublin 2.
GEO:53.2982612;-6.180611
END:VEVENT
END:VCALENDAR