BEGIN:VCALENDAR
VERSION:2.0
PRODID:-//BizPlus - ECPv4.6.2//NONSGML v1.0//EN
CALSCALE:GREGORIAN
METHOD:PUBLISH
X-WR-CALNAME:BizPlus
X-ORIGINAL-URL:https://bizplus.ie
X-WR-CALDESC:Events for BizPlus
BEGIN:VEVENT
DTSTART;TZID=Europe/Dublin:20160415T090000
DTEND;TZID=Europe/Dublin:20160415T170000
DTSTAMP:20171025T151146
CREATED:20160309T144059Z
LAST-MODIFIED:20160309T144059Z
UID:16227-1460710800-1460739600@bizplus.ie
SUMMARY:Arab-Irish Business Forum 2016
DESCRIPTION:Over 450 Irish companies are already doing business in the Middle East\, but policy and economic changes in the region will affect how business is done in the future. To help explain these changes\, the Arab-Irish Chamber of Commerce and various Irish state bodies have organised a business forum\, where all will be revealed. The keynote speaker is Gerald Lawless\, former president of luxury hotel chain operators Jumeirah Group. \nAmong the changes up for discussion are the falling price of oil\, impending VAT-style tax introductions and various legal and policy changes. Tickets cost €150. \n  \n
URL:https://bizplus.ie/event/arab-irish-business-forum-2016/
LOCATION:Dame Street\, \, Dublin 2
GEO:53.344183;-6.2648142
X-APPLE-STRUCTURED-LOCATION;VALUE=URI;X-ADDRESS=Dame Street  Dublin 2;X-APPLE-RADIUS=500;X-TITLE=Dame Street\,:geo:-6.2648142,53.344183
END:VEVENT
END:VCALENDAR