BEGIN:VCALENDAR
VERSION:2.0
PRODID:-//BizPlus - ECPv4.6.2//NONSGML v1.0//EN
CALSCALE:GREGORIAN
METHOD:PUBLISH
X-WR-CALNAME:BizPlus
X-ORIGINAL-URL:https://bizplus.ie
X-WR-CALDESC:Events for BizPlus
BEGIN:VEVENT
DTSTART;TZID=Europe/Dublin:20160905T100000
DTEND;TZID=Europe/Dublin:20160905T160000
DTSTAMP:20171025T160541
CREATED:20160808T084902Z
LAST-MODIFIED:20160808T084902Z
UID:23271-1473069600-1473091200@bizplus.ie
SUMMARY:Antalis Digital Academy
DESCRIPTION:Antalis\, a distributor of paper\, packaging solutions and visual communications products\, is bringing its digital academy to Dublin\, offering two one-day courses run by independent experts. \nThe first of these is an introduction to vehicle wrapping and vinyl application\, provides an understanding of all types of vinyl application for commercial printers who are new to the sign and display market and are considering expansion into this area. \nFollowing this\, a complete vehicle wrap workshop will be held on September 7\, from 10am till 4pm\, aimed at those who consider vehicle wrapping to be core to their business growth and are looking to improve their skills. \nBoth workshops will be tutored by Paul Hughes\, a sign maker with 16 years’ experience running his own business. Both courses cost €100 each per person. \n
URL:https://bizplus.ie/event/antalis-digital-academy/
LOCATION:Century Business Park\, Finglas\, \, Dublin 11
GEO:53.401622;-6.3005146
X-APPLE-STRUCTURED-LOCATION;VALUE=URI;X-ADDRESS=Century Business Park Finglas  Dublin 11;X-APPLE-RADIUS=500;X-TITLE=Century Business Park\, Finglas\,:geo:-6.3005146,53.401622
END:VEVENT
END:VCALENDAR