BEGIN:VCALENDAR
VERSION:2.0
PRODID:-//BizPlus - ECPv4.6.2//NONSGML v1.0//EN
CALSCALE:GREGORIAN
METHOD:PUBLISH
X-WR-CALNAME:BizPlus
X-ORIGINAL-URL:https://bizplus.ie
X-WR-CALDESC:Events for BizPlus
BEGIN:VEVENT
DTSTART;TZID=Europe/Dublin:20160508T120000
DTEND;TZID=Europe/Dublin:20160509T180000
DTSTAMP:20171025T152321
CREATED:20160321T144159Z
LAST-MODIFIED:20160321T144159Z
UID:16652-1462708800-1462816800@bizplus.ie
SUMMARY:50 Plus Expo
DESCRIPTION:Formerly called The Over 50s Show\, the 50 Plus Expo claims to be Ireland’s only dedicated national consumer event for older people. Aimed at those who are about to retire or already have and want to take up a new hobby or pastime\, the expo will cover rights and entitlements\, the financial implications of retirement and how to keep mentally and physically active in later years. The event is free to attend. \n
URL:https://bizplus.ie/event/50-plus-expo/
LOCATION:Killarney\, \, Kerry
GEO:52.0599353;-9.5044265
X-APPLE-STRUCTURED-LOCATION;VALUE=URI;X-ADDRESS=Killarney  Kerry;X-APPLE-RADIUS=500;X-TITLE=Killarney\,:geo:-9.5044265,52.0599353
END:VEVENT
END:VCALENDAR